BEGIN:VCALENDAR
VERSION:2.0
PRODID:icalendar-ruby
CALSCALE:GREGORIAN
METHOD:PUBLISH
BEGIN:VEVENT
DTSTAMP:20260424T161336Z
UID:18-481565@saintjameswestminster.ca
DTSTART:20261021T140000Z
DTEND:20261021T150000Z
CLASS:PUBLIC
CREATED:20260424T100503
DESCRIPTION:
LAST-MODIFIED:20260424T100503
LOCATION:
SUMMARY:Wednesday Services - 10am
URL;VALUE=URI:https://www.saintjameswestminster.ca/events/wednesday-service
 s-10am/2026-10-21
ATTACH;FILENAME=IMG_0439.JPG;FMTTYPE=image/jpeg:https://dq5pwpg1q8ru0.cloud
 front.net/2022/02/18/11/42/21/acc216d5-a3c4-4259-9e80-d11542b2a393/IMG_043
 9.JPG
END:VEVENT
END:VCALENDAR
